BEGIN:VCALENDAR
VERSION:2.0
PRODID:-//Sabre//Sabre VObject 4.5.8//EN
CALSCALE:GREGORIAN
BEGIN:VEVENT
UID:sabre-vobject-b5992d50-27b7-42cf-9519-ad41e8fde491
DTSTAMP:20260421T100305Z
SUMMARY:Rosenkranz
DESCRIPTION:https://haupeltshofen.bistum-augsburg-portal.de/rosenkranz_id16
 93266
DTSTART;TZID=Europe/Berlin:20260322T130000
DURATION:PT30M
LOCATION:Mariä Heimsuchung Benefizium\, Am Käppele\, 86480 Haupeltshofen
END:VEVENT
END:VCALENDAR
