BEGIN:VCALENDAR
VERSION:2.0
PRODID:-//Sabre//Sabre VObject 4.5.8//EN
CALSCALE:GREGORIAN
NAME:Bistum Augsburg
X-WR-CALNAME:Bistum Augsburg
BEGIN:VEVENT
UID:sabre-vobject-99464571-1082-4ca2-8364-857c22cc4021
DTSTAMP:20260420T083641Z
SUMMARY:Rosenkranz
DESCRIPTION:https://haupeltshofen.bistum-augsburg-portal.de/rosenkranz_id17
 36335
DTSTART;TZID=Europe/Berlin:20260426T130000
DURATION:PT30M
LOCATION:Mariä Heimsuchung Benefizium\, Am Käppele\, 86480 Haupeltshofen
END:VEVENT
BEGIN:VEVENT
UID:sabre-vobject-279558f0-ac79-4e61-b994-65f58c1f2fbb
DTSTAMP:20260420T083641Z
SUMMARY:Festgottesdienst für die gesamte PG - Heilige Messe
DESCRIPTION:https://haupeltshofen.bistum-augsburg-portal.de/festgottesdiens
 t-fuer-die-gesamte-pg-heilige-messe_id1736336
DTSTART;TZID=Europe/Berlin:20260501T093000
DURATION:PT30M
LOCATION:Mariä Heimsuchung Benefizium\, Am Käppele\, 86480 Haupeltshofen
END:VEVENT
END:VCALENDAR
